BEGIN:VCALENDAR
VERSION:2.0
PRODID:-//Féile Chois Cuain - ECPv6.15.20//NONSGML v1.0//EN
CALSCALE:GREGORIAN
METHOD:PUBLISH
X-WR-CALNAME:Féile Chois Cuain
X-ORIGINAL-URL:https://feilechoiscuain.com
X-WR-CALDESC:Events for Féile Chois Cuain
REFRESH-INTERVAL;VALUE=DURATION:PT1H
X-Robots-Tag:noindex
X-PUBLISHED-TTL:PT1H
BEGIN:VTIMEZONE
TZID:UTC
BEGIN:STANDARD
TZOFFSETFROM:+0000
TZOFFSETTO:+0000
TZNAME:UTC
DTSTART:20230101T000000
END:STANDARD
END:VTIMEZONE
BEGIN:VEVENT
DTSTART;TZID=UTC:20250505T123000
DTEND;TZID=UTC:20250505T160000
DTSTAMP:20260421T095408
CREATED:20230315T054052Z
LAST-MODIFIED:20250215T191221Z
UID:3802-1746448200-1746460800@feilechoiscuain.com
SUMMARY:‘Slán Abhaile’ Sessions
DESCRIPTION:Music Sessions will take place throughout the weekend in all pubs. \nShuttles will run from the square in Louisburgh to P’Dans\, Killadoon\, and Staunton’s Pub\, Lecanvey\, Friday\, Saturday and Sunday evening.
URL:https://feilechoiscuain.com/event/slan-abhaile-sessions/
LOCATION:Louisburgh
CATEGORIES:All Events,Sessions
ATTACH;FMTTYPE=image/jpeg:https://feilechoiscuain.com/wp-content/uploads/2023/03/slan-sessions.jpg
END:VEVENT
BEGIN:VEVENT
DTSTART;TZID=UTC:20250504T210000
DTEND;TZID=UTC:20250504T233000
DTSTAMP:20260421T095408
CREATED:20250215T191104Z
LAST-MODIFIED:20250215T191104Z
UID:4627-1746392400-1746401400@feilechoiscuain.com
SUMMARY:Céilí Mór na Féile / Set Dance Social
DESCRIPTION:Music by the Dartry Céilí Band
URL:https://feilechoiscuain.com/event/ceili-mor-na-feile-set-dance-social/
LOCATION:Parochial Hall
CATEGORIES:All Events,Concerts,Dancing
ATTACH;FMTTYPE=image/jpeg:https://feilechoiscuain.com/wp-content/uploads/2023/03/ceili.jpg
END:VEVENT
BEGIN:VEVENT
DTSTART;TZID=UTC:20250504T170000
DTEND;TZID=UTC:20250504T190000
DTSTAMP:20260421T095408
CREATED:20250215T190324Z
LAST-MODIFIED:20250419T124514Z
UID:4619-1746378000-1746385200@feilechoiscuain.com
SUMMARY:Trad for Teens Session
DESCRIPTION:Trad for Teens Session \nIonad/Venue: Oifig
URL:https://feilechoiscuain.com/event/trad-for-teens-session-2/
LOCATION:Oifig
CATEGORIES:All Events,Sessions
ATTACH;FMTTYPE=image/jpeg:https://feilechoiscuain.com/wp-content/uploads/2024/03/MaggieMaguire_1.jpg
END:VEVENT
BEGIN:VEVENT
DTSTART;TZID=UTC:20250504T160000
DTEND;TZID=UTC:20250504T180000
DTSTAMP:20260421T095408
CREATED:20250215T190849Z
LAST-MODIFIED:20250215T190849Z
UID:4624-1746374400-1746381600@feilechoiscuain.com
SUMMARY:Ceolchoirm na dTeagascóirí
DESCRIPTION:Featuring this year’s tutors\, Síle Denvir\, Barry Kerr\, Johnny Óg Connolly\, Pádraig Ó Dubhghaill\, Clíodhna Costello\, Colm Browne\, Emma Sweeney\, Cathal Ó Curráin\, Clare Friel\, Becky Ní Éallaithe\, Deirdre Scanlan\, Saileog Ní Cheannabháin\, Peadar Ó Ceannabháin and a host of other artists.
URL:https://feilechoiscuain.com/event/ceolchoirm-na-dteagascoiri/
LOCATION:Parochial Hall
CATEGORIES:All Events,Concerts
ATTACH;FMTTYPE=image/jpeg:https://feilechoiscuain.com/wp-content/uploads/2023/03/concert.jpg
END:VEVENT
BEGIN:VEVENT
DTSTART;TZID=UTC:20250503T200000
DTEND;TZID=UTC:20250503T223000
DTSTAMP:20260421T095408
CREATED:20250215T190103Z
LAST-MODIFIED:20250215T190103Z
UID:4616-1746302400-1746311400@feilechoiscuain.com
SUMMARY:30 Bliain ag Fás | The Féile Reunion Concert
DESCRIPTION:The 30-year Féile Reunion concert will feature musicians\, singers\, and dancers\, now cherished friends\, representing each year of the Féile since its inception in 1995: Colm O’Donnell\, Méabh Ní Lochlainn\, Marie Walsh\, Antóin MacGabhann\, Caitlín Nic Gabhann\, Hughie Grogan\, Anne-Marie Grogan\, Peter Farrell\, Catherine McEvoy\, Áine Ní Raghallaigh\, Paul Clesham\, Sarah Jane Woods\, Nollaig Ní Laoire\, Maggie Maguire\, Deirdre O’Grady\, Paddy Allen\, Josie Ó Ceannabháin\, Pádraig & Gearóid Ó Dubháin\, Antaine Ó Faracháin\, Cian Kearins\, Caoimhe Kearins\, Chris Maguire\, John Weir\, Anthony Quigney\, Nuala Hehir\, Geraldine McNamara\, Noel O’Grady\, Ronan Regan and many more.
URL:https://feilechoiscuain.com/event/30-bliain-ag-fas-the-feile-reunion-concert/
LOCATION:Parochial Hall
CATEGORIES:All Events,Concerts
ATTACH;FMTTYPE=image/jpeg:https://feilechoiscuain.com/wp-content/uploads/2023/03/concert.jpg
END:VEVENT
BEGIN:VEVENT
DTSTART;TZID=UTC:20250503T170000
DTEND;TZID=UTC:20250503T190000
DTSTAMP:20260421T095408
CREATED:20250215T185822Z
LAST-MODIFIED:20250411T150946Z
UID:4613-1746291600-1746298800@feilechoiscuain.com
SUMMARY:Trad for Teens Session
DESCRIPTION:Trad for Teens Session with Órnaith Ní Loingsigh and Conor O’Loughlin \nIonad/Venue: Oifig
URL:https://feilechoiscuain.com/event/trad-for-teens-session/
LOCATION:Oifig
CATEGORIES:All Events,Sessions
ATTACH;FMTTYPE=image/jpeg:https://feilechoiscuain.com/wp-content/uploads/2024/04/OrnaithNiLoinsigh_1.jpg
END:VEVENT
BEGIN:VEVENT
DTSTART;TZID=UTC:20250503T161500
DTEND;TZID=UTC:20250503T180000
DTSTAMP:20260421T095408
CREATED:20250215T185350Z
LAST-MODIFIED:20250218T102853Z
UID:4609-1746288900-1746295200@feilechoiscuain.com
SUMMARY:Seisiún Amhránaíochta ar an Sean-Nós
DESCRIPTION:Le scoth na n-amhránaithe ar an Sean-nós: Antaine Ó Faracháin\, Saileog Ní Cheannabháin\, Caitlín Ní Chualáin\, Traolach Ó Conghaile agus níos mó le deimhniú \nBean an Tí: Nollaig Ní Laoire
URL:https://feilechoiscuain.com/event/seisiun-amhranaiochta-ar-an-sean-nos/
LOCATION:Parochial Hall
CATEGORIES:All Events,Singing
ATTACH;FMTTYPE=image/jpeg:https://feilechoiscuain.com/wp-content/uploads/2025/02/Nollaig_Ni_Laoire.jpg
END:VEVENT
BEGIN:VEVENT
DTSTART;TZID=UTC:20250503T140000
DTEND;TZID=UTC:20250503T163000
DTSTAMP:20260421T095408
CREATED:20250215T183911Z
LAST-MODIFIED:20250215T183911Z
UID:4603-1746280800-1746289800@feilechoiscuain.com
SUMMARY:Ceardlanna Ceoil - Masterclasses  |  Taibhiú Ceoil do Dhéagóirí / Group Performance for Teenagers
DESCRIPTION:Maggie Maguire \nThis workshop will take place between 14:00-16:30 for teenagers at an advanced level. Musical material will be sent to participants in advance.
URL:https://feilechoiscuain.com/event/ceardlanna-ceoil-masterclasses-taibhiu-ceoil-do-dheagoiri-group-performance-for-teenagers/
LOCATION:Sancta Maria College
CATEGORIES:All Events,Masterclasses
ATTACH;FMTTYPE=image/jpeg:https://feilechoiscuain.com/wp-content/uploads/2024/03/MaggieMaguire_1.jpg
END:VEVENT
BEGIN:VEVENT
DTSTART;TZID=UTC:20250503T140000
DTEND;TZID=UTC:20250503T150000
DTSTAMP:20260421T095408
CREATED:20250215T190631Z
LAST-MODIFIED:20250419T124422Z
UID:4621-1746280800-1746284400@feilechoiscuain.com
SUMMARY:Trad for Kids Session
DESCRIPTION:Trad for Kids Session with Alisha McMahon and Caoimhe Kearins \nIonad/Venue: Oifig
URL:https://feilechoiscuain.com/event/trad-for-kids-session/
LOCATION:Oifig
CATEGORIES:All Events,Sessions
ATTACH;FMTTYPE=image/jpeg:https://feilechoiscuain.com/wp-content/uploads/2025/02/Caoimhe_Kearins-.jpg
END:VEVENT
BEGIN:VEVENT
DTSTART;TZID=UTC:20250503T110000
DTEND;TZID=UTC:20250520T160000
DTSTAMP:20260421T095408
CREATED:20250215T181659Z
LAST-MODIFIED:20250215T215140Z
UID:4586-1746270000-1747756800@feilechoiscuain.com
SUMMARY:Ceardlanna Ceoil - Masterclasses  |  Cláirseach / Harp
DESCRIPTION:Síle Denver
URL:https://feilechoiscuain.com/event/ceardlanna-ceoil-masterclasses-clairseach-harp/
LOCATION:Sancta Maria College
CATEGORIES:All Events,Masterclasses
ATTACH;FMTTYPE=image/jpeg:https://feilechoiscuain.com/wp-content/uploads/2023/03/harp.jpg
END:VEVENT
BEGIN:VEVENT
DTSTART;TZID=UTC:20250503T110000
DTEND;TZID=UTC:20250503T160000
DTSTAMP:20260421T095408
CREATED:20250215T184129Z
LAST-MODIFIED:20250215T184129Z
UID:4606-1746270000-1746288000@feilechoiscuain.com
SUMMARY:Ceardlanna Ceoil - Masterclasses  |  Ceardlann Rince Seit / Set Dance Workshop
DESCRIPTION:Pádraig & Róisín McEneany
URL:https://feilechoiscuain.com/event/ceardlanna-ceoil-masterclasses-ceardlann-rince-seit-set-dance-workshop/
LOCATION:Parochial Hall
CATEGORIES:All Events,Dancing,Masterclasses
ATTACH;FMTTYPE=image/jpeg:https://feilechoiscuain.com/wp-content/uploads/2023/03/set-dancing.jpg
END:VEVENT
BEGIN:VEVENT
DTSTART;TZID=UTC:20250503T110000
DTEND;TZID=UTC:20250503T160000
DTSTAMP:20260421T095408
CREATED:20250215T183537Z
LAST-MODIFIED:20250429T170439Z
UID:4600-1746270000-1746288000@feilechoiscuain.com
SUMMARY:Ceardlanna Ceoil - Masterclasses  |  Damhsa ar an Sean-nós / Sean-nós Dancing
DESCRIPTION:Gearóid Ó Dubháin & Pádraig Ó Dubháin
URL:https://feilechoiscuain.com/event/ceardlanna-ceoil-masterclasses-damhsa-ar-an-sean-nos-sean-nos-dancing/
LOCATION:Sancta Maria College
CATEGORIES:All Events,Dancing,Masterclasses
ATTACH;FMTTYPE=image/jpeg:https://feilechoiscuain.com/wp-content/uploads/2025/02/devanes.jpg
END:VEVENT
BEGIN:VEVENT
DTSTART;TZID=UTC:20250503T110000
DTEND;TZID=UTC:20250503T160000
DTSTAMP:20260421T095408
CREATED:20250215T183246Z
LAST-MODIFIED:20250215T215957Z
UID:4597-1746270000-1746288000@feilechoiscuain.com
SUMMARY:Ceardlanna Ceoil - Masterclasses  |  Amhránaíocht ar an Sean-Nós
DESCRIPTION:Saileog Ní Cheannabháin
URL:https://feilechoiscuain.com/event/ceardlanna-ceoil-masterclasses-amhranaiocht-ar-an-sean-nos/
LOCATION:Sancta Maria College
CATEGORIES:All Events,Masterclasses,Singing
ATTACH;FMTTYPE=image/jpeg:https://feilechoiscuain.com/wp-content/uploads/2025/02/Saileog_Ni_Cheannabhain.jpg
END:VEVENT
BEGIN:VEVENT
DTSTART;TZID=UTC:20250503T110000
DTEND;TZID=UTC:20250503T160000
DTSTAMP:20260421T095408
CREATED:20250215T182755Z
LAST-MODIFIED:20250215T182755Z
UID:4593-1746270000-1746288000@feilechoiscuain.com
SUMMARY:Ceardlanna Ceoil - Masterclasses  |  Amhránaíocht Thraidisiúnta / Traditional Singing
DESCRIPTION:Deirdre Scanlan
URL:https://feilechoiscuain.com/event/ceardlanna-ceoil-masterclasses-amhranaiocht-thraidisiunta-traditional-singing/
LOCATION:Sancta Maria College
CATEGORIES:All Events,Masterclasses,Singing
ATTACH;FMTTYPE=image/jpeg:https://feilechoiscuain.com/wp-content/uploads/2025/02/deirdre_scanlan.jpg
END:VEVENT
BEGIN:VEVENT
DTSTART;TZID=UTC:20250503T110000
DTEND;TZID=UTC:20250503T160000
DTSTAMP:20260421T095408
CREATED:20250215T182036Z
LAST-MODIFIED:20250215T182036Z
UID:4589-1746270000-1746288000@feilechoiscuain.com
SUMMARY:Ceardlanna Ceoil - Masterclasses  |  Tionlacan Pianó / Piano Accompaniment
DESCRIPTION:Paul Clesham
URL:https://feilechoiscuain.com/event/ceardlanna-ceoil-masterclasses-tionlacan-piano-piano-accompaniment/
LOCATION:Sancta Maria College
CATEGORIES:All Events,Masterclasses
ATTACH;FMTTYPE=image/jpeg:https://feilechoiscuain.com/wp-content/uploads/2025/02/piano.jpg
END:VEVENT
BEGIN:VEVENT
DTSTART;TZID=UTC:20250503T110000
DTEND;TZID=UTC:20250503T160000
DTSTAMP:20260421T095408
CREATED:20250215T181430Z
LAST-MODIFIED:20250215T214814Z
UID:4583-1746270000-1746288000@feilechoiscuain.com
SUMMARY:Ceardlanna Ceoil - Masterclasses  |  Bainseó / Banjo
DESCRIPTION:Cathal Ó Curráin
URL:https://feilechoiscuain.com/event/ceardlanna-ceoil-masterclasses-bainseo-banjo/
LOCATION:Sancta Maria College
CATEGORIES:All Events,Masterclasses
ATTACH;FMTTYPE=image/jpeg:https://feilechoiscuain.com/wp-content/uploads/2023/03/banjo.jpg
END:VEVENT
BEGIN:VEVENT
DTSTART;TZID=UTC:20250503T110000
DTEND;TZID=UTC:20250503T160000
DTSTAMP:20260421T095408
CREATED:20250215T181202Z
LAST-MODIFIED:20250303T180547Z
UID:4580-1746270000-1746288000@feilechoiscuain.com
SUMMARY:Ceardlanna Ceoil - Masterclasses  |  Consairtín / Concertina
DESCRIPTION:Cáitlin Nic Gabhann / Colm Browne
URL:https://feilechoiscuain.com/event/ceardlanna-ceoil-masterclasses-consairtin-concertina/
LOCATION:Sancta Maria College
CATEGORIES:All Events,Masterclasses
ATTACH;FMTTYPE=image/jpeg:https://feilechoiscuain.com/wp-content/uploads/2023/03/concertina.jpg
END:VEVENT
BEGIN:VEVENT
DTSTART;TZID=UTC:20250503T110000
DTEND;TZID=UTC:20250503T160000
DTSTAMP:20260421T095408
CREATED:20250215T180940Z
LAST-MODIFIED:20250411T145914Z
UID:4577-1746270000-1746288000@feilechoiscuain.com
SUMMARY:Ceardlanna Ceoil - Masterclasses  |  Feadóg / Tin Whistle
DESCRIPTION:Sarah-Jane Woods / Anne-Marie Grogan
URL:https://feilechoiscuain.com/event/ceardlanna-ceoil-masterclasses-feadog-tin-whistle/
LOCATION:Sancta Maria College
CATEGORIES:All Events,Masterclasses
ATTACH;FMTTYPE=image/jpeg:https://feilechoiscuain.com/wp-content/uploads/2023/03/tin-whistle.jpg
END:VEVENT
BEGIN:VEVENT
DTSTART;TZID=UTC:20250503T110000
DTEND;TZID=UTC:20250503T160000
DTSTAMP:20260421T095408
CREATED:20250215T180714Z
LAST-MODIFIED:20250215T180714Z
UID:4574-1746270000-1746288000@feilechoiscuain.com
SUMMARY:Ceardlanna Ceoil - Masterclasses  |  Feadóg Mhór / Flute
DESCRIPTION:Catherine McEvoy / Barry Kerr
URL:https://feilechoiscuain.com/event/ceardlanna-ceoil-masterclasses-feadog-mhor-flute/
LOCATION:Sancta Maria College
CATEGORIES:All Events,Masterclasses
ATTACH;FMTTYPE=image/jpeg:https://feilechoiscuain.com/wp-content/uploads/2023/03/Flute.jpg
END:VEVENT
BEGIN:VEVENT
DTSTART;TZID=UTC:20250503T110000
DTEND;TZID=UTC:20250503T160000
DTSTAMP:20260421T095408
CREATED:20250215T180450Z
LAST-MODIFIED:20250411T145331Z
UID:4571-1746270000-1746288000@feilechoiscuain.com
SUMMARY:Ceardlanna Ceoil - Masterclasses  |  Bosca Ceoil / Accordion
DESCRIPTION:Nuala Hehir / Joseph Mannion
URL:https://feilechoiscuain.com/event/ceardlanna-ceoil-masterclasses-bosca-ceoil-accordion/
LOCATION:Sancta Maria College
CATEGORIES:All Events,Masterclasses
ATTACH;FMTTYPE=image/jpeg:https://feilechoiscuain.com/wp-content/uploads/2023/03/accordion.jpg
END:VEVENT
BEGIN:VEVENT
DTSTART;TZID=UTC:20250503T110000
DTEND;TZID=UTC:20250503T160000
DTSTAMP:20260421T095408
CREATED:20250215T175708Z
LAST-MODIFIED:20250215T175708Z
UID:4566-1746270000-1746288000@feilechoiscuain.com
SUMMARY:Ceardlanna Ceoil - Masterclasses  |  Fidil / Fiddle
DESCRIPTION:Clare Friel / Emma Sweeney
URL:https://feilechoiscuain.com/event/ceardlanna-ceoil-masterclasses-fidil-fiddle/
LOCATION:Sancta Maria College
CATEGORIES:All Events,Masterclasses
ATTACH;FMTTYPE=image/jpeg:https://feilechoiscuain.com/wp-content/uploads/2023/03/fiddle.jpg
END:VEVENT
BEGIN:VEVENT
DTSTART;TZID=UTC:20250503T110000
DTEND;TZID=UTC:20250503T123000
DTSTAMP:20260421T095408
CREATED:20230315T052210Z
LAST-MODIFIED:20250218T102254Z
UID:3785-1746270000-1746275400@feilechoiscuain.com
SUMMARY:Club na Féile le hAntaine Ó Faracháin
DESCRIPTION:Spraoi do Pháistí. Musical fun for the little ones.
URL:https://feilechoiscuain.com/event/club-na-feile/
LOCATION:Sancta Maria College
CATEGORIES:All Events
ATTACH;FMTTYPE=image/jpeg:https://feilechoiscuain.com/wp-content/uploads/2023/03/kids-club.jpg
END:VEVENT
BEGIN:VEVENT
DTSTART;TZID=UTC:20250502T213000
DTEND;TZID=UTC:20250502T233000
DTSTAMP:20260421T095408
CREATED:20250215T174827Z
LAST-MODIFIED:20250215T175036Z
UID:4562-1746221400-1746228600@feilechoiscuain.com
SUMMARY:Seoladh Albaim/Album Launch - ‘Northern Sky’ by The Friel Sisters
DESCRIPTION:Album Launch: ‘Northern Sky’ by The Friel Sisters – featuring sisters Anna\, Sheila and Clare Friel\, alongside Cathal Ó Curráin and Marty Barry. \nIonad/Venue: Big Style at P Dan’s\, Killadoon
URL:https://feilechoiscuain.com/event/seoladh-albaim-album-launch-northern-sky-by-the-friel-sisters/
LOCATION:P Dan’s\, Killadoon\, Killadoon\, Louisburgh\, Ireland
CATEGORIES:All Events,Concerts
ATTACH;FMTTYPE=image/jpeg:https://feilechoiscuain.com/wp-content/uploads/2025/02/The_Friel_Sisters.jpg
END:VEVENT
BEGIN:VEVENT
DTSTART;TZID=UTC:20250502T213000
DTEND;TZID=UTC:20250502T233000
DTSTAMP:20260421T095408
CREATED:20250215T174052Z
LAST-MODIFIED:20250215T174052Z
UID:4560-1746221400-1746228600@feilechoiscuain.com
SUMMARY:Imeachtaí Seolta na Féile / Féile Launch Events
DESCRIPTION:Music sessions in local pubs. \nSinging session in Staunton’s Pub\, Lecanvey.
URL:https://feilechoiscuain.com/event/imeachtai-seolta-na-feile-feile-launch-events/
CATEGORIES:All Events
ATTACH;FMTTYPE=image/jpeg:https://feilechoiscuain.com/wp-content/uploads/2023/03/launch.jpg
END:VEVENT
BEGIN:VEVENT
DTSTART;TZID=UTC:20250502T190000
DTEND;TZID=UTC:20250502T213000
DTSTAMP:20260421T095408
CREATED:20250215T173701Z
LAST-MODIFIED:20250429T133233Z
UID:4557-1746212400-1746221400@feilechoiscuain.com
SUMMARY:Mol an Óige – Ceolchoirm le sárcheoltóiri óga
DESCRIPTION:Youth concert featuring local and visiting artists
URL:https://feilechoiscuain.com/event/mol-an-oige-ceolchoirm-le-sarcheoltoiri-oga-2/
LOCATION:Parochial Hall
CATEGORIES:All Events,Concerts
ATTACH;FMTTYPE=image/jpeg:https://feilechoiscuain.com/wp-content/uploads/2023/03/youth_concert.jpg
END:VEVENT
BEGIN:VEVENT
DTSTART;TZID=UTC:20250427T160000
DTEND;TZID=UTC:20250427T180000
DTSTAMP:20260421T095408
CREATED:20250419T095131Z
LAST-MODIFIED:20250419T095240Z
UID:4843-1745769600-1745776800@feilechoiscuain.com
SUMMARY:By the Light of the Silvery Moon - Aindrias de Staic
DESCRIPTION:Click Here for Tickets\nJoin us for a special evening of Irish tales\, beautifully brought to life through words and music by seanchaí and fiddler Aindrias de Staic
URL:https://feilechoiscuain.com/event/by-the-light-of-the-silvery-moon/
LOCATION:Parochial Hall
CATEGORIES:All Events,Concerts
ATTACH;FMTTYPE=image/jpeg:https://feilechoiscuain.com/wp-content/uploads/2025/04/andrias.jpg
END:VEVENT
BEGIN:VEVENT
DTSTART;TZID=UTC:20240505T160000
DTEND;TZID=UTC:20240505T180000
DTSTAMP:20260421T095408
CREATED:20230315T053313Z
LAST-MODIFIED:20240322T195844Z
UID:3795-1714924800-1714932000@feilechoiscuain.com
SUMMARY:Ceol agus Cairdeas / Musical Friendships
DESCRIPTION:Music from some of the finest musicians including Anne Conroy Burke\, Eileen O’Brien\, Mary Conroy\, Jillian O’Malley\, Mickey Kerr\, Tomás Quinn\, Maggie Maguire and Gabriel McCardle.
URL:https://feilechoiscuain.com/event/musical-friendships/
LOCATION:Parochial Hall
CATEGORIES:All Events,Concerts
ATTACH;FMTTYPE=image/jpeg:https://feilechoiscuain.com/wp-content/uploads/2023/03/Michael-Lavery-Seamus-Heneghan-Dessy-OHalloran.jpg
END:VEVENT
END:VCALENDAR