BEGIN:VCALENDAR
VERSION:2.0
PRODID:-//Féile Chois Cuain - ECPv6.15.20//NONSGML v1.0//EN
CALSCALE:GREGORIAN
METHOD:PUBLISH
X-WR-CALNAME:Féile Chois Cuain
X-ORIGINAL-URL:https://feilechoiscuain.com
X-WR-CALDESC:Events for Féile Chois Cuain
REFRESH-INTERVAL;VALUE=DURATION:PT1H
X-Robots-Tag:noindex
X-PUBLISHED-TTL:PT1H
BEGIN:VTIMEZONE
TZID:UTC
BEGIN:STANDARD
TZOFFSETFROM:+0000
TZOFFSETTO:+0000
TZNAME:UTC
DTSTART:20250101T000000
END:STANDARD
END:VTIMEZONE
BEGIN:VEVENT
DTSTART;TZID=UTC:20260504T123000
DTEND;TZID=UTC:20260504T160000
DTSTAMP:20260421T125558
CREATED:20260126T165103Z
LAST-MODIFIED:20260126T165103Z
UID:5028-1777897800-1777910400@feilechoiscuain.com
SUMMARY:‘Slán Abhaile’ Sessions
DESCRIPTION:Music will fill the town as we bid farewell to friends new and old until the same time next year.
URL:https://feilechoiscuain.com/event/slan-abhaile-sessions-2/
LOCATION:Louisburgh
CATEGORIES:All Events,Sessions
ATTACH;FMTTYPE=image/jpeg:https://feilechoiscuain.com/wp-content/uploads/2023/03/slan-sessions.jpg
END:VEVENT
END:VCALENDAR