BEGIN:VCALENDAR
VERSION:2.0
PRODID:-//Féile Chois Cuain - ECPv6.15.20//NONSGML v1.0//EN
CALSCALE:GREGORIAN
METHOD:PUBLISH
X-ORIGINAL-URL:https://feilechoiscuain.com
X-WR-CALDESC:Events for Féile Chois Cuain
REFRESH-INTERVAL;VALUE=DURATION:PT1H
X-Robots-Tag:noindex
X-PUBLISHED-TTL:PT1H
BEGIN:VTIMEZONE
TZID:UTC
BEGIN:STANDARD
TZOFFSETFROM:+0000
TZOFFSETTO:+0000
TZNAME:UTC
DTSTART:20250101T000000
END:STANDARD
END:VTIMEZONE
BEGIN:VEVENT
DTSTART;TZID=UTC:20260430T190000
DTEND;TZID=UTC:20260430T213000
DTSTAMP:20260421T100909
CREATED:20260215T124149Z
LAST-MODIFIED:20260215T124724Z
UID:5087-1777575600-1777584600@feilechoiscuain.com
SUMMARY:Mol an Óige – Ceolchoirm le sárcheoltóiri óga
DESCRIPTION:Youth concert featuring local and visiting artists
URL:https://feilechoiscuain.com/event/mol-an-oige-ceolchoirm-le-sarcheoltoiri-oga/
LOCATION:Parochial Hall
CATEGORIES:All Events,Concerts
ATTACH;FMTTYPE=image/jpeg:https://feilechoiscuain.com/wp-content/uploads/2023/03/youth_concert.jpg
END:VEVENT
BEGIN:VEVENT
DTSTART;TZID=UTC:20260501T193000
DTEND;TZID=UTC:20260501T213000
DTSTAMP:20260421T100909
CREATED:20260302T173025Z
LAST-MODIFIED:20260302T173057Z
UID:5137-1777663800-1777671000@feilechoiscuain.com
SUMMARY:Outdoor Performance
DESCRIPTION:Join us for an outdoor showcase of the brilliant All-Ireland Senior Céilí Band Champions Glór na dTonn as they take to the stage
URL:https://feilechoiscuain.com/event/outdoor-performance/
ATTACH;FMTTYPE=image/jpeg:https://feilechoiscuain.com/wp-content/uploads/2026/01/IMG_4814.jpeg
END:VEVENT
BEGIN:VEVENT
DTSTART;TZID=UTC:20260502T090000
DTEND;TZID=UTC:20260502T130000
DTSTAMP:20260421T100909
CREATED:20260302T172759Z
LAST-MODIFIED:20260302T172845Z
UID:5134-1777712400-1777726800@feilechoiscuain.com
SUMMARY:Masterclasses
DESCRIPTION:An opportunity to learn from Ireland’s finest and most celebrated musicians in a wonderful masterclass learnning tunes and skill
URL:https://feilechoiscuain.com/event/masterclasses/
ATTACH;FMTTYPE=image/jpeg:https://feilechoiscuain.com/wp-content/uploads/2023/03/harp.jpg
END:VEVENT
BEGIN:VEVENT
DTSTART;TZID=UTC:20260502T200000
DTEND;TZID=UTC:20260502T223000
DTSTAMP:20260421T100909
CREATED:20260302T173357Z
LAST-MODIFIED:20260302T173451Z
UID:5140-1777752000-1777761000@feilechoiscuain.com
SUMMARY:Ceolchoirm na dTeagascóirí
DESCRIPTION:
URL:https://feilechoiscuain.com/event/ceolchoirm-na-dteagascoiri-2/
LOCATION:Parochial Hall
CATEGORIES:All Events,Concerts
ATTACH;FMTTYPE=image/jpeg:https://feilechoiscuain.com/wp-content/uploads/2023/03/concert.jpg
END:VEVENT
BEGIN:VEVENT
DTSTART;TZID=UTC:20260503T170000
DTEND;TZID=UTC:20260503T190000
DTSTAMP:20260421T100909
CREATED:20260302T171943Z
LAST-MODIFIED:20260302T172033Z
UID:5131-1777827600-1777834800@feilechoiscuain.com
SUMMARY:Trad for Teens Session
DESCRIPTION:Trad for Teens Session \nIonad/Venue: Oifig
URL:https://feilechoiscuain.com/event/trad-for-teens-session-3/
LOCATION:Oifig
CATEGORIES:All Events,Sessions
ATTACH;FMTTYPE=image/jpeg:https://feilechoiscuain.com/wp-content/uploads/2023/03/slan-sessions.jpg
END:VEVENT
BEGIN:VEVENT
DTSTART;TZID=UTC:20260503T210000
DTEND;TZID=UTC:20260503T233000
DTSTAMP:20260421T100909
CREATED:20260214T195359Z
LAST-MODIFIED:20260302T172130Z
UID:5030-1777842000-1777851000@feilechoiscuain.com
SUMMARY:Céilí Mór na Féile / Set Dance Social
DESCRIPTION:Enjoy a fantastic night of music and dancing with the Glór na dTonn Ceílí Band \n 
URL:https://feilechoiscuain.com/event/ceili-mor-na-feile-set-dance-social-2/
LOCATION:Parochial Hall
CATEGORIES:All Events,Concerts,Dancing
ATTACH;FMTTYPE=image/jpeg:https://feilechoiscuain.com/wp-content/uploads/2026/01/IMG_4816-e1769447106172.jpeg
END:VEVENT
BEGIN:VEVENT
DTSTART;TZID=UTC:20260504T123000
DTEND;TZID=UTC:20260504T160000
DTSTAMP:20260421T100909
CREATED:20260126T165103Z
LAST-MODIFIED:20260126T165103Z
UID:5028-1777897800-1777910400@feilechoiscuain.com
SUMMARY:‘Slán Abhaile’ Sessions
DESCRIPTION:Music will fill the town as we bid farewell to friends new and old until the same time next year.
URL:https://feilechoiscuain.com/event/slan-abhaile-sessions-2/
LOCATION:Louisburgh
CATEGORIES:All Events,Sessions
ATTACH;FMTTYPE=image/jpeg:https://feilechoiscuain.com/wp-content/uploads/2023/03/slan-sessions.jpg
END:VEVENT
END:VCALENDAR